BEGIN:VCALENDAR
VERSION:2.0
PRODID:-//https://ischiaeventi.it///NONSGML kigkonsult.se iCalcreator 2.10.15//
METHOD:PUBLISH
BEGIN:VEVENT
UID:20260424T124906UTC-7027CUZpVJ@https://ischiaeventi.it/
DTSTAMP:20260424T124906Z
DESCRIPTION:Premio Maggio dell’Architettura_annodiciannove in Memoria di An
 tonello Monaco\nVenerdì 24 aprile 2026 – ore 15.00–18.00\nSala Consiliare 
 del Comune d’Ischia (NA)\nL’Associazione PIDA – Premio Internazionale Isch
 ia di Architettura\, insieme a SiebenArchi – Architetti Urbanisti Designer
 s\, ha organizzato presso la Sala Consiliare del Comune d’Ischia il conveg
 no “Maggio dell’Architettura_annodiciannove”\, un appuntamento che quest’a
 nno assume un significato particolarmente intenso: quello di rendere omagg
 io alla memoria dell’indimenticato Antonello Monaco\, architetto\, intelle
 ttuale e figura di riferimento nel panorama culturale ischitano.\nAntonell
 o Monaco ha lasciato un segno profondo nella cultura architettonica dell’i
 sola e non solo. Il convegno rappresenta l’occasione per raccogliere testi
 monianze\, riflessioni e ricordi di chi lo ha conosciuto e stimato\, resti
 tuendo alla collettività il ritratto di un uomo capace di coniugare rigore
  professionale\, sensibilità estetica e passione civile.Il programma del c
 onvegno\nI lavori si apriranno con i saluti istituzionali del Sindaco di I
 schia Enzo Ferrandino\, del Presidente del Consiglio Nazionale degli Archi
 tetti P.P.C. Massimo Crusie del Presidente dell’Ordine degli Architetti P.
 P.C. di Napoli Lorenzo Capobianco.\nIntrodurranno i lavori Antonio Cinigli
 o\, coordinatore del Premio Maggio dell’Architettura\, Giovannangelo De An
 gelis\, Presidente dell’Associazione PIDA – Ischia\, e Marco Savastano\, e
 nologo ed amico di Antonello.\nLe relazioni scientifiche saranno affidate 
 agli architetti Marco Cortese e Bruno Macrì\, nonché a Jorge Cruz Pinto de
 ll’Università di Lisbona e a Francisco Arques Soler dell’Escuela Técnica S
 uperior de Arquitectura de Madrid. Le conclusioni saranno affidate ad Ales
 sandro Castagnaro del DiARC – Dipartimento di Architettura dell’Università
  degli Studi di Napoli Federico II. È previsto il riconoscimento dei CFP a
 gli architetti partecipanti.Il Maggio dell’Architettura e la XIII edizione
  del PIDA\nIl convegno sarà anche l’occasione per presentare ufficialmente
  il programma del Maggio dell’Architettura 2026\, la rassegna che animerà
  nei prossimi mesi la vita culturale dell’isola e del territorio campano c
 on conferenze\, laboratori e iniziative dedicate alla qualità del costruit
 o e dello spazio urbano.\nIn tale contesto sarà annunciata ufficialmente l
 a XIII edizione del Premio Internazionale Ischia di Architettura (PIDA)\, 
 in programma dall’1 al 3 ottobre 2026.\nMaggiori dettagli sul tema e sul p
 rogramma della XII edizione del PIDA saranno resi noti nelle prossime sett
 imane. https://ischiaeventi.it/calendario/evento/249914-maggio-dellarchite
 ttura-annodiciannove
DTSTART:20260424T130000Z
DTEND:20260424T160000Z
LOCATION:Sala Consiliare “Agostino Mattera lacono” (Via Iasolino\, 1\, 8007
 7 Ischia NA\, Italia)
SUMMARY:Maggio dell’Architettura_annodiciannove
URL:https://ischiaeventi.it/calendario/evento/249914-maggio-dellarchitettur
 a-annodiciannove
END:VEVENT
END:VCALENDAR
