BEGIN:VCALENDAR
VERSION:2.0
PRODID:-//https://ischiaeventi.it///NONSGML kigkonsult.se iCalcreator 2.10.15//
METHOD:PUBLISH
BEGIN:VEVENT
UID:20260424T060623UTC-06356gAW1c@https://ischiaeventi.it/
DTSTAMP:20260424T060623Z
DESCRIPTION:L'intelligenza artificiale nel settore turisticoRelatore Prof M
 auro SciarelliCoordinatore del corso di economia aziendale UNINA Federico 
 IISALA CONGRESSI IPS 'V. TELESE' ISCHIA 9 MARZO 2026ORE 10:30INGRESSO LIBE
 RO https://ischiaeventi.it/component/rseventspro/evento/249614-lintelligen
 za-artificiale-nel-settore-turistico?Itemid=467
DTSTART:20260309T093000Z
DTEND:20260309T120000Z
LOCATION:IPS 'Vincenzo Telese' (Via Fondo Bosso\, 3\, 80077 Ischia NA\, Ita
 lia)
SUMMARY:L'intelligenza artificiale nel settore turistico
URL:https://ischiaeventi.it/component/rseventspro/evento/249614-lintelligen
 za-artificiale-nel-settore-turistico?Itemid=467
END:VEVENT
END:VCALENDAR
