BEGIN:VCALENDAR
VERSION:2.0
PRODID:-//https://ischiaeventi.it///NONSGML kigkonsult.se iCalcreator 2.10.15//
METHOD:PUBLISH
BEGIN:VEVENT
UID:20260424T172249UTC-5839AKJV8r@https://ischiaeventi.it/
DTSTAMP:20260424T172249Z
DESCRIPTION:Book Presentationby Federica Iacobelli – Il paese dei matti (Bo
 mpiani)\n https://ischiaeventi.it/en/calendar/event/249186-christmas-at-th
 e-antoniana-book-presentation-by-federica-iacobelli
DTSTART:20251227T170000Z
DTEND:20251227T180000Z
LOCATION:Biblioteca Antoniana (Rampe S.Antonio\, 5\, 80077 - Ischia)
SUMMARY:Christmas at the Antoniana: Book Presentation by Federica Iacobelli
  
URL:https://ischiaeventi.it/en/calendar/event/249186-christmas-at-the-anton
 iana-book-presentation-by-federica-iacobelli
END:VEVENT
END:VCALENDAR
