BEGIN:VCALENDAR
VERSION:2.0
PRODID:-//https://ischiaeventi.it///NONSGML kigkonsult.se iCalcreator 2.10.15//
METHOD:PUBLISH
BEGIN:VEVENT
UID:20260424T060404UTC-7194kFcoHe@https://ischiaeventi.it/
DTSTAMP:20260424T060404Z
DESCRIPTION:Solemn Penitential Procession with the venerated image of Our L
 ady of Sorrows through the streets of Forio.The procession will return via
  Casa di Maio Street. https://ischiaeventi.it/en/component/rseventspro/eve
 nt/249730-solemn-seven-day-devotion-in-honor-of-our-lady-of-sorrows?Itemid
 =428
DTSTART:20260327T100000Z
DTEND:20260327T123000Z
LOCATION:Forio d’Ischia (80075 Forio NA\, Italia)
SUMMARY:Solemn Seven-Day Devotion in Honor of Our Lady of Sorrows
URL:https://ischiaeventi.it/en/component/rseventspro/event/249730-solemn-se
 ven-day-devotion-in-honor-of-our-lady-of-sorrows?Itemid=428
END:VEVENT
END:VCALENDAR
