BEGIN:VCALENDAR
VERSION:2.0
PRODID:-//https://ischiaeventi.it///NONSGML kigkonsult.se iCalcreator 2.10.15//
METHOD:PUBLISH
BEGIN:VEVENT
UID:20260424T060829UTC-6441Bahvvc@https://ischiaeventi.it/
DTSTAMP:20260424T060829Z
DESCRIPTION:La mostra è visitabile dal martedì alla domenica dalle 19.00 al
 le 24.00\, i quadri in esposizione sono disponibili per eventuali acquisti
 . https://ischiaeventi.it/en/component/rseventspro/event/29130-mostra-foto
 grafica-punti-di-vista?Itemid=428
DTSTART;VALUE=DATE:20240413
LOCATION:Kiwi Jam (Via Luigi Mazzella\, 42\, 80077 Ischia NA\, Italia)
SUMMARY:Mostra fotografica punti di vista
URL:https://ischiaeventi.it/en/component/rseventspro/event/29130-mostra-fot
 ografica-punti-di-vista?Itemid=428
END:VEVENT
END:VCALENDAR
