BEGIN:VCALENDAR
VERSION:2.0
PRODID:-//https://ischiaeventi.it///NONSGML kigkonsult.se iCalcreator 2.10.15//
METHOD:PUBLISH
BEGIN:VEVENT
UID:20260424T060625UTC-2862IG7jzn@https://ischiaeventi.it/
DTSTAMP:20260424T060625Z
DESCRIPTION:Paolo Belli e la sua band in concerto a Sant'Angelo domenica 29
  settembre alle 22:00 https://ischiaeventi.it/en/component/rseventspro/eve
 nt/33144-paolo-belli-in-concerto?Itemid=428
DTSTART:20240929T200000Z
DTEND:20240929T215900Z
LOCATION:Borgo di Sant'Angelo (Via Nazario Sauro\, Sant'angelo NA\, Italia)
SUMMARY:Paolo Belli in concerto
URL:https://ischiaeventi.it/en/component/rseventspro/event/33144-paolo-bell
 i-in-concerto?Itemid=428
END:VEVENT
END:VCALENDAR
