BEGIN:VCALENDAR
VERSION:2.0
PRODID:-//https://ischiaeventi.it///NONSGML kigkonsult.se iCalcreator 2.10.15//
METHOD:PUBLISH
BEGIN:VEVENT
UID:20260422T090037UTC-0703OAmNg9@https://ischiaeventi.it/
DTSTAMP:20260422T090037Z
DESCRIPTION:ISCHIA GOSPEL EXPLOSION\, FESTIVAL INTERNAZIONALE DI MUSICA GOS
 PEL TRADITIONAL\, BLACK &amp\; CONTEMPORARY https://ischiaeventi.it/en/eve
 nts/cultura/architecture/event/103202-estate-forio-2025-ischia-gospel-expl
 osion
DTSTART:20250719T190000Z
DTEND:20250719T215900Z
LOCATION:Piazzale del Soccorso (Via del Soccorso\, 6\, 80075 Forio NA\, Ita
 lia)
SUMMARY:Estate Forio 2025: Ischia Gospel Explosion
URL:https://ischiaeventi.it/en/events/cultura/architecture/event/103202-est
 ate-forio-2025-ischia-gospel-explosion
END:VEVENT
END:VCALENDAR
