BEGIN:VCALENDAR
VERSION:2.0
PRODID:-//https://ischiaeventi.it///NONSGML kigkonsult.se iCalcreator 2.10.15//
METHOD:PUBLISH
BEGIN:VEVENT
UID:20260422T123917UTC-4514vEFKvv@https://ischiaeventi.it/
DTSTAMP:20260422T123917Z
DESCRIPTION:OTTO LIVE: MUSICA DAL VIVO CON LE CANZONI DEL MUSICISTA FORIANO
  IN ARTE OTTO https://ischiaeventi.it/en/events/cultura/architecture/event
 /124235-estate-forio-2025-otto-live
DTSTART:20250805T190000Z
DTEND:20250805T215900Z
LOCATION:Vico San Gaetano\, Forio (Via Cesare Piro\, 10\, 80075 Forio NA\, 
 Italia)
SUMMARY:Estate Forio 2025: Otto live
URL:https://ischiaeventi.it/en/events/cultura/architecture/event/124235-est
 ate-forio-2025-otto-live
END:VEVENT
END:VCALENDAR
