BEGIN:VCALENDAR
VERSION:2.0
PRODID:-//https://ischiaeventi.it///NONSGML kigkonsult.se iCalcreator 2.10.15//
METHOD:PUBLISH
BEGIN:VEVENT
UID:20260422T102224UTC-42812LvhPD@https://ischiaeventi.it/
DTSTAMP:20260422T102224Z
DESCRIPTION:\nDOMENICA 10 E LUNEDÌ 11 ORE 21.00 - VILLA LA COLOMBAIAL'ECLIS
 SI\n&nbsp\;\n\n&nbsp\;PRENOTA QUI https://ischiaeventi.it/en/events/cultur
 a/architecture/event/124238-estate-forio-2025-leclissi
DTSTART:20250810T190000Z
DTEND:20250810T215900Z
LOCATION:La Colombaia (Via Francesco Calise\, 130\, 80075 Forio NA\, Italia
 )
SUMMARY:Estate Forio 2025: L'ECLISSI
URL:https://ischiaeventi.it/en/events/cultura/architecture/event/124238-est
 ate-forio-2025-leclissi
END:VEVENT
END:VCALENDAR
