BEGIN:VCALENDAR
VERSION:2.0
PRODID:-//https://ischiaeventi.it///NONSGML kigkonsult.se iCalcreator 2.10.15//
METHOD:PUBLISH
BEGIN:VEVENT
UID:20260421T151716UTC-99607U33x1@https://ischiaeventi.it/
DTSTAMP:20260421T151716Z
DESCRIPTION:Lighting of the Christmas Decorations and Grand Musical ParadeE
 ndless emotions and traditions: Bands\, Majorettes\, Disney Mascots\, Sant
 a Claus with his Sleigh\, Ponies\, and Elves handing out candy to all chil
 dren – selfies and many photos! https://ischiaeventi.it/en/events/cultura/
 architecture/event/249000-christmas-in-casamicciola-lighting-of-the-festiv
 e-decorations
DTSTART:20251207T170000Z
DTEND:20251207T225300Z
LOCATION:Piazza Marina Casamicciola Terme (Corso Luigi Manzi\, 1\, 80074 Ca
 samicciola Terme NA\, Italy)
SUMMARY:Christmas in Casamicciola: Lighting of the Festive Decorations
URL:https://ischiaeventi.it/en/events/cultura/architecture/event/249000-chr
 istmas-in-casamicciola-lighting-of-the-festive-decorations
END:VEVENT
END:VCALENDAR
