BEGIN:VCALENDAR
VERSION:2.0
PRODID:-//https://ischiaeventi.it///NONSGML kigkonsult.se iCalcreator 2.10.15//
METHOD:PUBLISH
BEGIN:VEVENT
UID:20260420T212657UTC-4250GIfWTT@https://ischiaeventi.it/
DTSTAMP:20260420T212657Z
DESCRIPTION:'The Village Christmas' organized by the Gertrud Streicher Asso
 ciation https://ischiaeventi.it/en/events/cultura/architecture/event/24920
 7-christmas-in-serrara-the-village-christmas
DTSTART:20251214T140000Z
DTEND:20251214T170000Z
LOCATION:Succhivo (Provinciale Succhivo Sant'Angelo\, 21-27\, 80070 Sant'An
 gelo NA\, Italy)
SUMMARY:Christmas in Serrara: 'The Village Christmas'
URL:https://ischiaeventi.it/en/events/cultura/architecture/event/249207-chr
 istmas-in-serrara-the-village-christmas
END:VEVENT
END:VCALENDAR
