BEGIN:VCALENDAR
VERSION:2.0
PRODID:-//https://ischiaeventi.it///NONSGML kigkonsult.se iCalcreator 2.10.15//
METHOD:PUBLISH
BEGIN:VEVENT
UID:20260422T143158UTC-3319HldA4U@https://ischiaeventi.it/
DTSTAMP:20260422T143158Z
DESCRIPTION:Ischia on the catwalk curated by Daniela Scotti\n&nbsp\;\n http
 s://ischiaeventi.it/en/events/cultura/architecture/event/249298-christmas-
 in-ischia-ischia-on-the-catwalk
DTSTART:20251214T150000Z
DTEND:20251214T190000Z
LOCATION:Palazzo Reale (Via Iasolino\, 18\, 80077 Ischia NA\, Italia)
SUMMARY:Christmas in Ischia: Ischia on the catwalk 
URL:https://ischiaeventi.it/en/events/cultura/architecture/event/249298-chr
 istmas-in-ischia-ischia-on-the-catwalk
END:VEVENT
END:VCALENDAR
