BEGIN:VCALENDAR
VERSION:2.0
PRODID:-//https://ischiaeventi.it///NONSGML kigkonsult.se iCalcreator 2.10.15//
METHOD:PUBLISH
BEGIN:VEVENT
UID:20260422T140716UTC-1320vo9dEX@https://ischiaeventi.it/
DTSTAMP:20260422T140716Z
DESCRIPTION:6:00 PM – Modern Singing Show: concert by the Modern Singing st
 udents of the T.C.A. Academy\, organized by Giovanni Apetino in Piazza Mun
 icipio.\n\n&nbsp\; https://ischiaeventi.it/en/events/cultura/architecture/
 event/249369-christmas-in-forio-2025-modern-singing-show
DTSTART:20251222T170000Z
DTEND:20251222T190000Z
LOCATION:Piazza Medaglia d'oro (San Gaetano) (Piazza Luca Balsofiore\, 8\, 
 80075 Forio NA\, Italy)
SUMMARY:Christmas in Forio 2025: Modern Singing Show
URL:https://ischiaeventi.it/en/events/cultura/architecture/event/249369-chr
 istmas-in-forio-2025-modern-singing-show
END:VEVENT
END:VCALENDAR
