BEGIN:VCALENDAR
VERSION:2.0
PRODID:-//https://ischiaeventi.it///NONSGML kigkonsult.se iCalcreator 2.10.15//
METHOD:PUBLISH
BEGIN:VEVENT
UID:20260420T194937UTC-59383h6jrL@https://ischiaeventi.it/
DTSTAMP:20260420T194937Z
DESCRIPTION:Enjoy a day filled with artisan markets and the Ludobus wooden 
 games\, for kids and adults alike. https://ischiaeventi.it/en/events/cultu
 ra/architecture/event/249399-the-befana-brunch
DTSTART:20260111T113500Z
DTEND:20260111T133500Z
LOCATION:Piazzale di Serrara e belvedere (Piazza Pietro Paolo Iacono\, 5\, 
 80070 Serrara Fontana NA\, Italy)
SUMMARY:THE BEFANA BRUNCH
URL:https://ischiaeventi.it/en/events/cultura/architecture/event/249399-the
 -befana-brunch
END:VEVENT
END:VCALENDAR
