BEGIN:VCALENDAR
VERSION:2.0
PRODID:-//https://ischiaeventi.it///NONSGML kigkonsult.se iCalcreator 2.10.15//
METHOD:PUBLISH
BEGIN:VEVENT
UID:20260422T124902UTC-0240ChJJNp@https://ischiaeventi.it/
DTSTAMP:20260422T124902Z
DESCRIPTION:Inaugurazione Iacono Mattera Waschimps https://ischiaeventi.it/
 en/events/cultura/architecture/event/28757-inaugurazione-iacono-mattera-wa
 schimps
DTSTART:20240323T170000Z
DTEND:20240323T190000Z
LOCATION:Villa Arbusto museum (Corso Angelo Rizzoli\, 194\, 80076 Lacco Ame
 no NA\, Italia)
SUMMARY:Inaugurazione Iacono Mattera Waschimps
URL:https://ischiaeventi.it/en/events/cultura/architecture/event/28757-inau
 gurazione-iacono-mattera-waschimps
END:VEVENT
END:VCALENDAR
