BEGIN:VCALENDAR
VERSION:2.0
PRODID:-//https://ischiaeventi.it///NONSGML kigkonsult.se iCalcreator 2.10.15//
METHOD:PUBLISH
BEGIN:VEVENT
UID:20260422T121405UTC-6389elOlCV@https://ischiaeventi.it/
DTSTAMP:20260422T121405Z
DESCRIPTION:Memorial Luciano Napolano https://ischiaeventi.it/en/events/cul
 tura/architecture/event/28804-torneo-di-calcio-balilla
DTSTART:20240323T173000Z
DTEND:20240323T190000Z
LOCATION:Succhivo (Provinciale Succhivo Sant'Angelo\, 21-27\, 80070 Sant'An
 gelo NA\, Italy)
SUMMARY:Torneo di calcio Balilla
URL:https://ischiaeventi.it/en/events/cultura/architecture/event/28804-torn
 eo-di-calcio-balilla
END:VEVENT
END:VCALENDAR
