BEGIN:VCALENDAR
VERSION:2.0
PRODID:-//https://ischiaeventi.it///NONSGML kigkonsult.se iCalcreator 2.10.15//
METHOD:PUBLISH
BEGIN:VEVENT
UID:20260422T103553UTC-1661HaOPrv@https://ischiaeventi.it/
DTSTAMP:20260422T103553Z
DESCRIPTION:Il corso di Panza si trasforma in una immensa cantina: tra torc
 hi\, uva\, vino\, mosto\, contadini\, viti e cibo della tradizione. Mentre
  c’è chi rammenda con la raffia i cestini\, c’è chi cucina e chi pesta l’u
 va con l’antico procedimento: il tutto accompagnato dalle danze locale htt
 ps://ischiaeventi.it/en/events/cultura/architecture/event/29272-panza-fest
 a-della-vendemmia
DTSTART;VALUE=DATE:20240921
LOCATION:Forio d’Ischia (80075 Forio NA\, Italia)
SUMMARY:Panza festa della vendemmia
URL:https://ischiaeventi.it/en/events/cultura/architecture/event/29272-panz
 a-festa-della-vendemmia
END:VEVENT
END:VCALENDAR
