BEGIN:VCALENDAR
VERSION:2.0
PRODID:-//https://ischiaeventi.it///NONSGML kigkonsult.se iCalcreator 2.10.15//
METHOD:PUBLISH
BEGIN:VEVENT
UID:20260422T084836UTC-4262CBJuVO@https://ischiaeventi.it/
DTSTAMP:20260422T084836Z
DESCRIPTION:Dal 26 giugno tutti i mercoledì Casamicciola torna in Festa ! h
 ttps://ischiaeventi.it/en/events/cultura/architecture/event/30850-ogni-set
 timana-mercoledi-in-festa
DTSTART:20240710T190000Z
DTEND:20240710T215900Z
LOCATION:Piazza Marina Casamicciola Terme (Corso Luigi Manzi\, 1\, 80074 Ca
 samicciola Terme NA\, Italy)
SUMMARY:Ogni settimana: Mercoledì in festa
URL:https://ischiaeventi.it/en/events/cultura/architecture/event/30850-ogni
 -settimana-mercoledi-in-festa
END:VEVENT
END:VCALENDAR
