BEGIN:VCALENDAR
VERSION:2.0
PRODID:-//https://ischiaeventi.it///NONSGML kigkonsult.se iCalcreator 2.10.15//
METHOD:PUBLISH
BEGIN:VEVENT
UID:20260420T195159UTC-8546OwUjhP@https://ischiaeventi.it/
DTSTAMP:20260420T195159Z
DESCRIPTION:Summer Time Serrara: BELVEDERE AL CALAR DEL SOLE MUSICA CON DJ 
 TONY ROMANO https://ischiaeventi.it/en/events/cultura/architecture/event/3
 1229-summer-time-serrara-belvedere-al-calar-del-sole-musica-con-dj-tony-ro
 mano
DTSTART:20240712T170000Z
DTEND:20240712T215200Z
LOCATION:Piazza Serrara (80070 Serrara Fontana NA\, Italia)
SUMMARY:Summer Time Serrara: BELVEDERE AL CALAR DEL SOLE MUSICA CON DJ TONY
  ROMANO
URL:https://ischiaeventi.it/en/events/cultura/architecture/event/31229-summ
 er-time-serrara-belvedere-al-calar-del-sole-musica-con-dj-tony-romano
END:VEVENT
END:VCALENDAR
