BEGIN:VCALENDAR
VERSION:2.0
PRODID:-//https://ischiaeventi.it///NONSGML kigkonsult.se iCalcreator 2.10.15//
METHOD:PUBLISH
BEGIN:VEVENT
UID:20260420T213037UTC-9774s6Kd3V@https://ischiaeventi.it/
DTSTAMP:20260420T213037Z
DESCRIPTION:Summer Time Serrara: BELVEDERE AL CALAR DEL SOLE MUSICA CON DJ 
 PAKINHO https://ischiaeventi.it/en/events/cultura/architecture/event/31237
 -summer-time-serrara-belvedere-al-calar-del-sole-musica-con-dj-pakinho
DTSTART:20240726T170000Z
DTEND:20240726T215200Z
LOCATION:Piazza Serrara (80070 Serrara Fontana NA\, Italia)
SUMMARY:Summer Time Serrara: BELVEDERE AL CALAR DEL SOLE MUSICA CON DJ PAKI
 NHO
URL:https://ischiaeventi.it/en/events/cultura/architecture/event/31237-summ
 er-time-serrara-belvedere-al-calar-del-sole-musica-con-dj-pakinho
END:VEVENT
END:VCALENDAR
