BEGIN:VCALENDAR
VERSION:2.0
PRODID:-//https://ischiaeventi.it///NONSGML kigkonsult.se iCalcreator 2.10.15//
METHOD:PUBLISH
BEGIN:VEVENT
UID:20260420T195033UTC-96669oULc4@https://ischiaeventi.it/
DTSTAMP:20260420T195033Z
DESCRIPTION:Summer Time Serrara: DR WHY E MUSICNIGHT CON SIMONE E ANDY DJ h
 ttps://ischiaeventi.it/en/events/cultura/architecture/event/31238-summer-t
 ime-serrara-dr-why-e-musicnight-con-simone-e-andy-dj
DTSTART:20240728T190000Z
DTEND:20240728T215200Z
LOCATION:Succhivo (Provinciale Succhivo Sant'Angelo\, 21-27\, 80070 Sant'An
 gelo NA\, Italy)
SUMMARY:Summer Time Serrara: DR WHY E MUSICNIGHT CON SIMONE E ANDY DJ
URL:https://ischiaeventi.it/en/events/cultura/architecture/event/31238-summ
 er-time-serrara-dr-why-e-musicnight-con-simone-e-andy-dj
END:VEVENT
END:VCALENDAR
