BEGIN:VCALENDAR
VERSION:2.0
PRODID:-//https://ischiaeventi.it///NONSGML kigkonsult.se iCalcreator 2.10.15//
METHOD:PUBLISH
BEGIN:VEVENT
UID:20260420T170550UTC-7213Uxmp1V@https://ischiaeventi.it/
DTSTAMP:20260420T170550Z
DESCRIPTION:Dal 26 giugno tutti i mercoledì Casamicciola torna in Festa ! h
 ttps://ischiaeventi.it/en/events/cultura/architecture/event/31262-ogni-set
 timana-mercoledi-in-festa
DTSTART:20240731T190000Z
DTEND:20240731T215900Z
LOCATION:Piazza Marina Casamicciola Terme (Corso Luigi Manzi\, 1\, 80074 Ca
 samicciola Terme NA\, Italy)
SUMMARY:Ogni settimana: Mercoledì in festa
URL:https://ischiaeventi.it/en/events/cultura/architecture/event/31262-ogni
 -settimana-mercoledi-in-festa
END:VEVENT
END:VCALENDAR
