BEGIN:VCALENDAR
VERSION:2.0
PRODID:-//https://ischiaeventi.it///NONSGML kigkonsult.se iCalcreator 2.10.15//
METHOD:PUBLISH
BEGIN:VEVENT
UID:20260422T121226UTC-1152B8kkeT@https://ischiaeventi.it/
DTSTAMP:20260422T121226Z
DESCRIPTION:Mostra Mattotti https://ischiaeventi.it/en/events/cultura/archi
 tecture/event/31396-mostra-mattotti
DTSTART:20240719T173000Z
DTEND:20240719T210000Z
LOCATION:Villa Arbusto museum (Corso Angelo Rizzoli\, 194\, 80076 Lacco Ame
 no NA\, Italia)
SUMMARY:Mostra Mattotti
URL:https://ischiaeventi.it/en/events/cultura/architecture/event/31396-most
 ra-mattotti
END:VEVENT
END:VCALENDAR
