BEGIN:VCALENDAR
VERSION:2.0
PRODID:-//https://ischiaeventi.it///NONSGML kigkonsult.se iCalcreator 2.10.15//
METHOD:PUBLISH
BEGIN:VEVENT
UID:20260421T150239UTC-6471mbuk6L@https://ischiaeventi.it/
DTSTAMP:20260421T150239Z
DESCRIPTION:Spettacolo di fuochi pirotecnici in onore di Santa Maria Maddal
 ena https://ischiaeventi.it/en/events/cultura/architecture/event/31458-spe
 ttacolo-di-fuochi-pirotecnici-in-onore-di-santa-maria-maddalena
DTSTART:20240722T215800Z
DTEND:20240722T215900Z
LOCATION:Lungomare Casamicciola (Via Salvatore Girardi\, 80074 Casamicciola
  Terme NA\, Italia)
SUMMARY:Spettacolo di fuochi pirotecnici in onore di Santa Maria Maddalena
URL:https://ischiaeventi.it/en/events/cultura/architecture/event/31458-spet
 tacolo-di-fuochi-pirotecnici-in-onore-di-santa-maria-maddalena
END:VEVENT
END:VCALENDAR
