BEGIN:VCALENDAR
VERSION:2.0
PRODID:-//https://ischiaeventi.it///NONSGML kigkonsult.se iCalcreator 2.10.15//
METHOD:PUBLISH
BEGIN:VEVENT
UID:20260422T090349UTC-8395Lmanf5@https://ischiaeventi.it/
DTSTAMP:20260422T090349Z
DESCRIPTION:Panza summer fest: spettacolo brasiliano\nballi caraibici e lat
 ino americano https://ischiaeventi.it/en/events/cultura/architecture/event
 /31717-panza-summer-fest-spettacolo-brasiliano
DTSTART:20240809T183000Z
DTEND:20240809T214300Z
LOCATION:Piazza San Leonardo ( Via Cavaliere Leonardo Impagliazzo\, 53\, 80
 075 Forio NA)
SUMMARY:Panza summer fest: spettacolo brasiliano
URL:https://ischiaeventi.it/en/events/cultura/architecture/event/31717-panz
 a-summer-fest-spettacolo-brasiliano
END:VEVENT
END:VCALENDAR
