BEGIN:VCALENDAR
VERSION:2.0
PRODID:-//https://ischiaeventi.it///NONSGML kigkonsult.se iCalcreator 2.10.15//
METHOD:PUBLISH
BEGIN:VEVENT
UID:20260420T152545UTC-2787SGev9p@https://ischiaeventi.it/
DTSTAMP:20260420T152545Z
DESCRIPTION:11:30 SFILATA DI NATALE per il centro storico di Forio della st
 orica Banda Musicale di Forio\n&nbsp\; https://ischiaeventi.it/en/events/c
 ultura/architecture/event/34116-forio-merryland-sfilata-di-natale
DTSTART:20241225T103000Z
DTEND:20241225T130000Z
LOCATION:Comune di Forio (Piazza Municipio\, 1\, 80075 Forio NA\, Italia)
SUMMARY:Forio MerryLand: SFILATA DI NATALE
URL:https://ischiaeventi.it/en/events/cultura/architecture/event/34116-fori
 o-merryland-sfilata-di-natale
END:VEVENT
END:VCALENDAR
