BEGIN:VCALENDAR
VERSION:2.0
PRODID:-//https://ischiaeventi.it///NONSGML kigkonsult.se iCalcreator 2.10.15//
METHOD:PUBLISH
BEGIN:VEVENT
UID:20260421T150615UTC-0411J43Dzn@https://ischiaeventi.it/
DTSTAMP:20260421T150615Z
DESCRIPTION:20.00 CONCERTO DI NATALE BANDA MUSICALE DI PANZA tradizione in 
 concerto di musiche natalizie nella Parrocchia di San Leonardo in Panza\n&
 nbsp\; https://ischiaeventi.it/en/events/cultura/architecture/event/34120-
 forio-merryland-concerto-di-natale-banda-musicale-di-panza
DTSTART:20241226T190000Z
DTEND:20241226T220000Z
LOCATION:Comune di Forio (Piazza Municipio\, 1\, 80075 Forio NA\, Italia)
SUMMARY:Forio MerryLand: CONCERTO DI NATALE BANDA MUSICALE DI PANZA 
URL:https://ischiaeventi.it/en/events/cultura/architecture/event/34120-fori
 o-merryland-concerto-di-natale-banda-musicale-di-panza
END:VEVENT
END:VCALENDAR
