BEGIN:VCALENDAR
VERSION:2.0
PRODID:-//https://ischiaeventi.it///NONSGML kigkonsult.se iCalcreator 2.10.15//
METHOD:PUBLISH
BEGIN:VEVENT
UID:20260422T124049UTC-1097e1UNvN@https://ischiaeventi.it/
DTSTAMP:20260422T124049Z
DESCRIPTION:CONCERTO DI NATALE della Banda Musicale di Forionella Chiesa di
  Santa Maria di Loreto in Forio https://ischiaeventi.it/en/events/cultura/
 architecture/event/34284-forio-merryland-concerto-di-natale
DTSTART:20241229T183000Z
DTEND:20241229T200000Z
LOCATION:Comune di Forio (Piazza Municipio\, 1\, 80075 Forio NA\, Italia)
SUMMARY:Forio MerryLand: CONCERTO DI NATALE
URL:https://ischiaeventi.it/en/events/cultura/architecture/event/34284-fori
 o-merryland-concerto-di-natale
END:VEVENT
END:VCALENDAR
