BEGIN:VCALENDAR
VERSION:2.0
PRODID:-//https://ischiaeventi.it///NONSGML kigkonsult.se iCalcreator 2.10.15//
METHOD:PUBLISH
BEGIN:VEVENT
UID:20260420T133833UTC-7577aM12kn@https://ischiaeventi.it/
DTSTAMP:20260420T133833Z
DESCRIPTION:15 Dicembre - Ischia PonteSERENA BRANCALE https://ischiaeventi.
 it/en/events/cultura/architecture/event/35834-natale-a-ischia-serena-branc
 ale
DTSTART:20241215T200000Z
DTEND:20241215T220000Z
LOCATION:Borgo di Ischia Ponte (Piazzale Aragonese\, 1\, 80077 Ischia\, Nap
 les\, Italy)
SUMMARY:Natale a Ischia: Serena Brancale
URL:https://ischiaeventi.it/en/events/cultura/architecture/event/35834-nata
 le-a-ischia-serena-brancale
END:VEVENT
END:VCALENDAR
