BEGIN:VCALENDAR
VERSION:2.0
PRODID:-//https://ischiaeventi.it///NONSGML kigkonsult.se iCalcreator 2.10.15//
METHOD:PUBLISH
BEGIN:VEVENT
UID:20260422T101830UTC-8003Uvn1lV@https://ischiaeventi.it/
DTSTAMP:20260422T101830Z
DESCRIPTION:Natale a Ischia: Capodanno in piazza\nI Special guest: Dj Decib
 el BelliniBand Tributo Italiano\, Vocalist Claudia Megré https://ischiaeve
 nti.it/en/events/cultura/architecture/event/35839-natale-a-ischia-capodann
 o-in-piazza
DTSTART:20241231T200000Z
DTEND:20241231T225900Z
LOCATION:Via Roma (Via Roma\, 80077 Ischia NA\, Italia)
SUMMARY:Natale a Ischia: Capodanno in piazza
URL:https://ischiaeventi.it/en/events/cultura/architecture/event/35839-nata
 le-a-ischia-capodanno-in-piazza
END:VEVENT
END:VCALENDAR
