BEGIN:VCALENDAR
VERSION:2.0
PRODID:-//https://ischiaeventi.it///NONSGML kigkonsult.se iCalcreator 2.10.15//
METHOD:PUBLISH
BEGIN:VEVENT
UID:20260420T195032UTC-7903JBbr3P@https://ischiaeventi.it/
DTSTAMP:20260420T195032Z
DESCRIPTION:Arriva la Befana per i più piccoli SERRARA FONTANA https://isch
 iaeventi.it/en/events/cultura/architecture/event/36893-mare-copp-mas-arriv
 a-la-befana
DTSTART:20250106T093000Z
DTEND:20250106T145900Z
LOCATION:Comune di Serrara Fontana (Via Roma\, 79\, 80070 Serrara Fontana N
 A\, Italia)
SUMMARY:Mare Copp Mas: Arriva la Befana
URL:https://ischiaeventi.it/en/events/cultura/architecture/event/36893-mare
 -copp-mas-arriva-la-befana
END:VEVENT
END:VCALENDAR
