BEGIN:VCALENDAR
VERSION:2.0
PRODID:-//https://ischiaeventi.it///NONSGML kigkonsult.se iCalcreator 2.10.15//
METHOD:PUBLISH
BEGIN:VEVENT
UID:20260422T121646UTC-9312WIk68N@https://ischiaeventi.it/
DTSTAMP:20260422T121646Z
DESCRIPTION:Screening oncologico col camper della Regione Campania piazzale
  Anna De Felice https://ischiaeventi.it/en/events/cultura/architecture/eve
 nt/38442-natale-a-casamicciola-natale-in-salute
DTSTART:20241220T090000Z
DTEND:20241220T120000Z
LOCATION:Piazzale Anna De Felice  (80074 Casamicciola Terme NA\, Italia)
SUMMARY:Natale a Casamicciola: NATALE IN SALUTE
URL:https://ischiaeventi.it/en/events/cultura/architecture/event/38442-nata
 le-a-casamicciola-natale-in-salute
END:VEVENT
END:VCALENDAR
