BEGIN:VCALENDAR
VERSION:2.0
PRODID:-//https://ischiaeventi.it///NONSGML kigkonsult.se iCalcreator 2.10.15//
METHOD:PUBLISH
BEGIN:VEVENT
UID:20260421T162931UTC-55662WPBD6@https://ischiaeventi.it/
DTSTAMP:20260421T162931Z
DESCRIPTION:Concerto di S. Somma e F. Colella Villa Joseph (Don Orione) 17:
 00 https://ischiaeventi.it/en/events/cultura/architecture/event/38450-nata
 le-a-casamicciola-cantanapoli-e-caccia-al-tesoro
DTSTART:20241230T160000Z
DTEND:20241230T180000Z
LOCATION:Villa Joseph (80074 Casamicciola Terme NA\, Italia)
SUMMARY:Natale a Casamicciola: 'CANTANAPOLI' e CACCIA AL TESORO
URL:https://ischiaeventi.it/en/events/cultura/architecture/event/38450-nata
 le-a-casamicciola-cantanapoli-e-caccia-al-tesoro
END:VEVENT
END:VCALENDAR
