BEGIN:VCALENDAR
VERSION:2.0
PRODID:-//https://ischiaeventi.it///NONSGML kigkonsult.se iCalcreator 2.10.15//
METHOD:PUBLISH
BEGIN:VEVENT
UID:20260422T110301UTC-0073nDSSeS@https://ischiaeventi.it/
DTSTAMP:20260422T110301Z
DESCRIPTION:concerto della Nuova Orchestra Italiana con Gino Rivieccio Piaz
 za Marina 18:30 https://ischiaeventi.it/en/events/cultura/architecture/eve
 nt/38452-natale-a-casamicciola-napoli-tre-punti-e-a-capo
DTSTART:20250101T173000Z
DTEND:20250101T183000Z
LOCATION:Piazza Marina Casamicciola Terme (Corso Luigi Manzi\, 1\, 80074 Ca
 samicciola Terme NA\, Italy)
SUMMARY:Natale a Casamicciola: 'NAPOLI TRE PUNTI E A CAPO”*
URL:https://ischiaeventi.it/en/events/cultura/architecture/event/38452-nata
 le-a-casamicciola-napoli-tre-punti-e-a-capo
END:VEVENT
END:VCALENDAR
