BEGIN:VCALENDAR
VERSION:2.0
PRODID:-//https://ischiaeventi.it///NONSGML kigkonsult.se iCalcreator 2.10.15//
METHOD:PUBLISH
BEGIN:VEVENT
UID:20260420T223752UTC-4905UUsfbk@https://ischiaeventi.it/
DTSTAMP:20260420T223752Z
DESCRIPTION:Concerto di Natale della scuola Ibsen https://ischiaeventi.it/e
 n/events/cultura/architecture/event/39855-natale-a-casamicciola-concerto-d
 i-natale-della-scuola-ibsen
DTSTART:20241217T143000Z
DTEND:20241217T153000Z
LOCATION:Chiesa parrocchiale Santa Maria Maddalena (Via Giuseppe Garibaldi\
 , 80074 Casamicciola Terme NA\, Italia)
SUMMARY:Natale a Casamicciola: concerto di Natale della scuola Ibsen
URL:https://ischiaeventi.it/en/events/cultura/architecture/event/39855-nata
 le-a-casamicciola-concerto-di-natale-della-scuola-ibsen
END:VEVENT
END:VCALENDAR
