BEGIN:VCALENDAR
VERSION:2.0
PRODID:-//https://ischiaeventi.it///NONSGML kigkonsult.se iCalcreator 2.10.15//
METHOD:PUBLISH
BEGIN:VEVENT
UID:20260420T150211UTC-3527IIF29c@https://ischiaeventi.it/
DTSTAMP:20260420T150211Z
DESCRIPTION:Piazza SS. Immacolata - ore 19.00\nUn evento tutto da ridere co
 n una speciale edizione in maschera de “La Corrida”\, dove il pubblico sar
 à protagonista tra esibizioni esilaranti e tanto divertimento! https://isc
 hiaeventi.it/en/events/cultura/architecture/event/44694-la-corrida-mascher
 ata
DTSTART:20250302T180000Z
DTEND:20250302T200000Z
LOCATION:Forio d’Ischia (80075 Forio NA\, Italia)
SUMMARY:La corrida mascherata 
URL:https://ischiaeventi.it/en/events/cultura/architecture/event/44694-la-c
 orrida-mascherata
END:VEVENT
END:VCALENDAR
