BEGIN:VCALENDAR
VERSION:2.0
PRODID:-//https://ischiaeventi.it///NONSGML kigkonsult.se iCalcreator 2.10.15//
METHOD:PUBLISH
BEGIN:VEVENT
UID:20260420T223750UTC-3066bH4Glg@https://ischiaeventi.it/
DTSTAMP:20260420T223750Z
DESCRIPTION:MERCOLEDI 16 || ORE 21:00 - CHIOSTRO PIAZZA MUNICIPIO ISCHIA CL
 ASSICA FESTIVAL: MUSICAL HOOK CON LE AVVENTURE DI PETER PANGIOVEDI 17 || O
 RE 21.00 - CENTRO STORICO DI FORIO https://ischiaeventi.it/en/events/cultu
 ra/conferences/event/103199-estate-forio-2025-classica-festival-musical-ho
 ok
DTSTART:20250716T190000Z
DTEND:20250716T215900Z
LOCATION:Chiostro S. Francesco (Rione Pescatori\, 2\, 80075 Forio NA\, Ital
 ia)
SUMMARY:ESTATE FORIO 2025: CLASSICA FESTIVAL: MUSICAL HOOK
URL:https://ischiaeventi.it/en/events/cultura/conferences/event/103199-esta
 te-forio-2025-classica-festival-musical-hook
END:VEVENT
END:VCALENDAR
