BEGIN:VCALENDAR
VERSION:2.0
PRODID:-//https://ischiaeventi.it///NONSGML kigkonsult.se iCalcreator 2.10.15//
METHOD:PUBLISH
BEGIN:VEVENT
UID:20260421T163239UTC-3165z5vpUl@https://ischiaeventi.it/
DTSTAMP:20260421T163239Z
DESCRIPTION:Serata grandi classici della canzone italiana con band musicali
 \, banchetti artigianali e stand enogastronomici https://ischiaeventi.it/e
 n/events/cultura/conferences/event/103201-estate-forio-2025-serata-grandi-
 classici-della-canzone-italiana
DTSTART:20250718T180000Z
DTEND:20250718T215900Z
LOCATION:Panza (Piazza San Leonardo - 80075 Panza Forio)
SUMMARY:Estate Forio 2025: serata grandi classici della canzone italiana 
URL:https://ischiaeventi.it/en/events/cultura/conferences/event/103201-esta
 te-forio-2025-serata-grandi-classici-della-canzone-italiana
END:VEVENT
END:VCALENDAR
