BEGIN:VCALENDAR
VERSION:2.0
PRODID:-//https://ischiaeventi.it///NONSGML kigkonsult.se iCalcreator 2.10.15//
METHOD:PUBLISH
BEGIN:VEVENT
UID:20260422T124119UTC-7931DvJN8U@https://ischiaeventi.it/
DTSTAMP:20260422T124119Z
DESCRIPTION:The most “wonderful” and chocolate-filled workshops for childre
 n\, set in an enchanting\, super-realistic\, and breathtaking scenery. htt
 ps://ischiaeventi.it/en/events/cultura/conferences/event/249003-christmas-
 in-casamicciola-chocolate-factory
DTSTART:20251215T090000Z
DTEND:20251215T173000Z
LOCATION:Piazza Marina Casamicciola Terme (Corso Luigi Manzi\, 1\, 80074 Ca
 samicciola Terme NA\, Italy)
SUMMARY:Christmas in Casamicciola: Chocolate Factory
URL:https://ischiaeventi.it/en/events/cultura/conferences/event/249003-chri
 stmas-in-casamicciola-chocolate-factory
END:VEVENT
END:VCALENDAR
