BEGIN:VCALENDAR
VERSION:2.0
PRODID:-//https://ischiaeventi.it///NONSGML kigkonsult.se iCalcreator 2.10.15//
METHOD:PUBLISH
BEGIN:VEVENT
UID:20260420T151022UTC-6683J9f5gW@https://ischiaeventi.it/
DTSTAMP:20260420T151022Z
DESCRIPTION:At the “V. Napoleone” pier\, there will be the Blessing of the 
 Palms and a procession to the parish church\, where Holy Mass will be cele
 brated. https://ischiaeventi.it/en/events/cultura/conferences/event/249774
 -easter-in-lacco-ameno-blessing-of-the-palms
DTSTART:20260329T083000Z
DTEND:20260329T110000Z
LOCATION:Pontile Napoleone  (80076 Lacco Ameno NA\, Italia)
SUMMARY:Easter in Lacco Ameno: Blessing of the Palms
URL:https://ischiaeventi.it/en/events/cultura/conferences/event/249774-east
 er-in-lacco-ameno-blessing-of-the-palms
END:VEVENT
END:VCALENDAR
