BEGIN:VCALENDAR
VERSION:2.0
PRODID:-//https://ischiaeventi.it///NONSGML kigkonsult.se iCalcreator 2.10.15//
METHOD:PUBLISH
BEGIN:VEVENT
UID:20260422T103746UTC-4535P2lOH3@https://ischiaeventi.it/
DTSTAMP:20260422T103746Z
DESCRIPTION:Esposizione Iacono Mattera Waschimps https://ischiaeventi.it/en
 /events/cultura/conferences/event/28765-esposizione-iacono-mattera-waschim
 ps
DTSTART:20240329T170000Z
DTEND:20240329T190000Z
LOCATION:Villa Arbusto museum (Corso Angelo Rizzoli\, 194\, 80076 Lacco Ame
 no NA\, Italia)
SUMMARY:Esposizione Iacono Mattera Waschimps
URL:https://ischiaeventi.it/en/events/cultura/conferences/event/28765-espos
 izione-iacono-mattera-waschimps
END:VEVENT
END:VCALENDAR
