BEGIN:VCALENDAR
VERSION:2.0
PRODID:-//https://ischiaeventi.it///NONSGML kigkonsult.se iCalcreator 2.10.15//
METHOD:PUBLISH
BEGIN:VEVENT
UID:20260422T084650UTC-74125dlMf4@https://ischiaeventi.it/
DTSTAMP:20260422T084650Z
DESCRIPTION:Esposizione Iacono Mattera Waschimps https://ischiaeventi.it/en
 /events/cultura/conferences/event/28781-esposizione-iacono-mattera-waschim
 ps
DTSTART:20240414T160000Z
DTEND:20240414T180000Z
LOCATION:Villa Arbusto museum (Corso Angelo Rizzoli\, 194\, 80076 Lacco Ame
 no NA\, Italia)
SUMMARY:Esposizione Iacono Mattera Waschimps
URL:https://ischiaeventi.it/en/events/cultura/conferences/event/28781-espos
 izione-iacono-mattera-waschimps
END:VEVENT
END:VCALENDAR
