BEGIN:VCALENDAR
VERSION:2.0
PRODID:-//https://ischiaeventi.it///NONSGML kigkonsult.se iCalcreator 2.10.15//
METHOD:PUBLISH
BEGIN:VEVENT
UID:20260420T151057UTC-7123jg2d0w@https://ischiaeventi.it/
DTSTAMP:20260420T151057Z
DESCRIPTION:Memorial Luciano Napolano https://ischiaeventi.it/en/events/cul
 tura/conferences/event/28803-torneo-di-calcio-balilla
DTSTART:20240322T173000Z
DTEND:20240322T190000Z
LOCATION:Succhivo (Provinciale Succhivo Sant'Angelo\, 21-27\, 80070 Sant'An
 gelo NA\, Italy)
SUMMARY:Torneo di calcio Balilla
URL:https://ischiaeventi.it/en/events/cultura/conferences/event/28803-torne
 o-di-calcio-balilla
END:VEVENT
END:VCALENDAR
