BEGIN:VCALENDAR
VERSION:2.0
PRODID:-//https://ischiaeventi.it///NONSGML kigkonsult.se iCalcreator 2.10.15//
METHOD:PUBLISH
BEGIN:VEVENT
UID:20260422T103728UTC-2448os6t82@https://ischiaeventi.it/
DTSTAMP:20260422T103728Z
DESCRIPTION:Una delle gare più attese nel panorama sportivo ischitano\, una
  gara di Triathlon che avrà vita sul nostro territorio https://ischiaevent
 i.it/en/events/cultura/conferences/event/29273-ischia-sunset-triathlon-13-
 edizione
DTSTART;VALUE=DATE:20240905
LOCATION:Forio d’Ischia (80075 Forio NA\, Italia)
SUMMARY:Ischia Sunset Triathlon 13° edizione
URL:https://ischiaeventi.it/en/events/cultura/conferences/event/29273-ischi
 a-sunset-triathlon-13-edizione
END:VEVENT
END:VCALENDAR
