BEGIN:VCALENDAR
VERSION:2.0
PRODID:-//https://ischiaeventi.it///NONSGML kigkonsult.se iCalcreator 2.10.15//
METHOD:PUBLISH
BEGIN:VEVENT
UID:20260420T150110UTC-7930ntufBr@https://ischiaeventi.it/
DTSTAMP:20260420T150110Z
DESCRIPTION:Sfilaforio 2024 https://ischiaeventi.it/en/events/cultura/confe
 rences/event/29708-sfilaforio-2024
DTSTART:20240519T080000Z
DTEND:20240519T110000Z
LOCATION:Corso Francesco Regine (Via Avvocato Francesco Regine\, 80075 Fori
 o NA\, Italia)
SUMMARY:Sfilaforio 2024
URL:https://ischiaeventi.it/en/events/cultura/conferences/event/29708-sfila
 forio-2024
END:VEVENT
END:VCALENDAR
