BEGIN:VCALENDAR
VERSION:2.0
PRODID:-//https://ischiaeventi.it///NONSGML kigkonsult.se iCalcreator 2.10.15//
METHOD:PUBLISH
BEGIN:VEVENT
UID:20260422T104455UTC-8080uD9rSl@https://ischiaeventi.it/
DTSTAMP:20260422T104455Z
DESCRIPTION: https://ischiaeventi.it/en/events/cultura/conferences/event/30
 531-borgo-in-festa
DTSTART:20240607T153000Z
DTEND:20240607T212300Z
LOCATION:Borgo di Ischia Ponte (Piazzale Aragonese\, 1\, 80077 Ischia\, Nap
 les\, Italy)
SUMMARY:Borgo in festa
URL:https://ischiaeventi.it/en/events/cultura/conferences/event/30531-borgo
 -in-festa
END:VEVENT
END:VCALENDAR
