BEGIN:VCALENDAR
VERSION:2.0
PRODID:-//https://ischiaeventi.it///NONSGML kigkonsult.se iCalcreator 2.10.15//
METHOD:PUBLISH
BEGIN:VEVENT
UID:20260420T210653UTC-0009L6WVa1@https://ischiaeventi.it/
DTSTAMP:20260420T210653Z
DESCRIPTION:CECILIA TRANIhip hop\nBODY BALLET DANCEdi Valentina Mazzello ht
 tps://ischiaeventi.it/en/events/cultura/conferences/event/30759-calici-di-
 cultura-cecilia-trani-hip-hop
DTSTART:20240616T163000Z
DTEND:20240616T183000Z
LOCATION:Piazzale Cristoforo Colombo (Via Cristoforo Colombo\, 80075 Forio 
 NA\, Italia)
SUMMARY:Calici di cultura: Cecilia Trani hip hop
URL:https://ischiaeventi.it/en/events/cultura/conferences/event/30759-calic
 i-di-cultura-cecilia-trani-hip-hop
END:VEVENT
END:VCALENDAR
