BEGIN:VCALENDAR
VERSION:2.0
PRODID:-//https://ischiaeventi.it///NONSGML kigkonsult.se iCalcreator 2.10.15//
METHOD:PUBLISH
BEGIN:VEVENT
UID:20260422T104954UTC-1261si4NAr@https://ischiaeventi.it/
DTSTAMP:20260422T104954Z
DESCRIPTION:Summer Time Serrara: 40° FESTIVAL DELLE COSE BUONE https://isch
 iaeventi.it/en/events/cultura/conferences/event/31230-summer-time-serrara-
 40-festival-delle-cose-buone
DTSTART:20240713T183000Z
DTEND:20240713T215200Z
LOCATION:Piazza Serrara (80070 Serrara Fontana NA\, Italia)
SUMMARY:Summer Time Serrara: 40° FESTIVAL DELLE COSE BUONE
URL:https://ischiaeventi.it/en/events/cultura/conferences/event/31230-summe
 r-time-serrara-40-festival-delle-cose-buone
END:VEVENT
END:VCALENDAR
