BEGIN:VCALENDAR
VERSION:2.0
PRODID:-//https://ischiaeventi.it///NONSGML kigkonsult.se iCalcreator 2.10.15//
METHOD:PUBLISH
BEGIN:VEVENT
UID:20260422T104258UTC-3851uFgS9O@https://ischiaeventi.it/
DTSTAMP:20260422T104258Z
DESCRIPTION:Summer Time Serrara: CABARET CON MASSIMO BURGADA E MUSICNIGHT C
 ON ANDY E FABER DJ https://ischiaeventi.it/en/events/cultura/conferences/e
 vent/31247-summer-time-serrara-cabaret-con-massimo-burgada-e-musicnight-co
 n-andy-e-faber-dj
DTSTART:20240817T190000Z
DTEND:20240817T210000Z
LOCATION:Piazza Fontana (80070 Serrara Fontana NA\, Italia)
SUMMARY:Summer Time Serrara: CABARET CON MASSIMO BURGADA E MUSICNIGHT CON A
 NDY E FABER DJ
URL:https://ischiaeventi.it/en/events/cultura/conferences/event/31247-summe
 r-time-serrara-cabaret-con-massimo-burgada-e-musicnight-con-andy-e-faber-d
 j
END:VEVENT
END:VCALENDAR
