BEGIN:VCALENDAR
VERSION:2.0
PRODID:-//https://ischiaeventi.it///NONSGML kigkonsult.se iCalcreator 2.10.15//
METHOD:PUBLISH
BEGIN:VEVENT
UID:20260420T223753UTC-5001SwDVae@https://ischiaeventi.it/
DTSTAMP:20260420T223753Z
DESCRIPTION:Suggestivo concerto di fisarmoniche a cura dell'Associazione No
 te sul mare https://ischiaeventi.it/en/events/cultura/conferences/event/31
 653-e-state-insieme-a-lacco-ameno-not-te-sul-mare-2024
DTSTART:20240811T193000Z
DTEND:20240811T212300Z
LOCATION:Scogliera Lido Caronte (Corso Angelo Rizzoli\, 98\, 80076 Lacco Am
 eno NA\, Italia)
SUMMARY:E-state insieme a Lacco Ameno: Not(te) sul mare 2024
URL:https://ischiaeventi.it/en/events/cultura/conferences/event/31653-e-sta
 te-insieme-a-lacco-ameno-not-te-sul-mare-2024
END:VEVENT
END:VCALENDAR
